BEGIN:VCALENDAR
VERSION:2.0
PRODID:-//CAR-ACHO - ECPv5.0.3.1//NONSGML v1.0//EN
CALSCALE:GREGORIAN
METHOD:PUBLISH
X-WR-CALNAME:CAR-ACHO
X-ORIGINAL-URL:https://car-acho.de
X-WR-CALDESC:Veranstaltungen im CAR-ACHO
BEGIN:VTIMEZONE
TZID:Europe/Berlin
BEGIN:DAYLIGHT
TZOFFSETFROM:+0100
TZOFFSETTO:+0200
TZNAME:CEST
DTSTART:20240331T010000
END:DAYLIGHT
BEGIN:STANDARD
TZOFFSETFROM:+0200
TZOFFSETTO:+0100
TZNAME:CET
DTSTART:20241027T010000
END:STANDARD
END:VTIMEZONE
BEGIN:VEVENT
DTSTART;TZID=Europe/Berlin:20241029T083000
DTEND;TZID=Europe/Berlin:20241029T160000
DTSTAMP:20260425T144111
CREATED:20200415T155559Z
LAST-MODIFIED:20241024T112350Z
UID:9985-1730190600-1730217600@car-acho.de
SUMMARY:Ausbildung für Ersthelfer
DESCRIPTION:\n\n\nGeeignet für alle\, die sich zum Ersthelfer im Betrieb ausbilden lassen wollen. Gültig auch für alle Führerscheinklassen.\n\n\n9 Unterrichtseinheiten \nWir freuen uns\, Dich schon bald mit unserem interaktiven Kurskonzept überraschen zu dürfen! \n50 Euro für Selbstzahler / kostenlos bei Abrechnung über BG oder Unfallkasse \n\nAlle Informationen zu einer möglichen Kostenübernahme für Ersthelfer im Betrieb findest Du hier.\n
URL:https://car-acho.de/kalender/ausbildung-fuer-ersthelfer-8-3-2-8-22-3-2-3-14-12-2-2-2-2-2-2-2-2-4-2-2-2-2-2-3-2-2-2-3-2-2-2-2-2-2-2-2-4-2-2-2-2-2-2-4-2-2-2-2-2-2-3-2-2-3-2-2-3-2/
LOCATION:CAR-ACHO\, Schwetzinger Straße 53 A (Hinterhaus)\, 68165\, Mannheim
CATEGORIES:Ausbildung Ersthelfer
END:VEVENT
END:VCALENDAR